BEGIN:VCALENDAR
VERSION:2.0
PRODID:-//Olympic Peninsula - ECPv5.8.2//NONSGML v1.0//EN
CALSCALE:GREGORIAN
METHOD:PUBLISH
X-WR-CALNAME:Olympic Peninsula
X-ORIGINAL-URL:https://olympicpeninsula.org
X-WR-CALDESC:Events for Olympic Peninsula
BEGIN:VTIMEZONE
TZID:America/Los_Angeles
BEGIN:DAYLIGHT
TZOFFSETFROM:-0800
TZOFFSETTO:-0700
TZNAME:PDT
DTSTART:20260308T100000
END:DAYLIGHT
BEGIN:STANDARD
TZOFFSETFROM:-0700
TZOFFSETTO:-0800
TZNAME:PST
DTSTART:20261101T090000
END:STANDARD
END:VTIMEZONE
BEGIN:VEVENT
DTSTART;TZID=America/Los_Angeles:20260410T100000
DTEND;TZID=America/Los_Angeles:20260410T100000
DTSTAMP:20260421T034145
CREATED:20260317T212615Z
LAST-MODIFIED:20260317T212654Z
UID:58007-1775815200-1775815200@olympicpeninsula.org
SUMMARY:Welcoming the Whales
DESCRIPTION:Experience a profound Olympic Peninsula tradition on Friday\, April 10th\, as the Quileute Tribe gathers in La Push for the Welcoming the Whales ceremony. Set against the dramatic sea stacks of First Beach\, this evocative event honors the annual gray whale migration with traditional song and sacred ritual. It is a breathtaking celebration of heritage and natural wonder\, marking one of the most beautiful and culturally significant days of the year on the wild Pacific coast. Lunch to follow at the Akalat Center. This event is sponsored by the Quileute Tribe & Quileute Tribal School.
URL:https://olympicpeninsula.org/event/welcoming-the-whales/
LOCATION:La Push\, La Push\, WA\, 98350\, United States
CATEGORIES:Art & Performance,Community & Culture,Forks & La Push,History,Nature
ATTACH;FMTTYPE=image/jpeg:https://olympicpeninsula.org/wp-content/uploads/2026/03/whales-e1773782595848.jpg
GEO:47.9081335;-124.6352256
END:VEVENT
END:VCALENDAR