BEGIN:VCALENDAR
VERSION:2.0
PRODID:-//Olympic Peninsula - ECPv5.8.2//NONSGML v1.0//EN
CALSCALE:GREGORIAN
METHOD:PUBLISH
X-WR-CALNAME:Olympic Peninsula
X-ORIGINAL-URL:https://olympicpeninsula.org
X-WR-CALDESC:Events for Olympic Peninsula
BEGIN:VTIMEZONE
TZID:America/Los_Angeles
BEGIN:DAYLIGHT
TZOFFSETFROM:-0800
TZOFFSETTO:-0700
TZNAME:PDT
DTSTART:20260308T100000
END:DAYLIGHT
BEGIN:STANDARD
TZOFFSETFROM:-0700
TZOFFSETTO:-0800
TZNAME:PST
DTSTART:20261101T090000
END:STANDARD
END:VTIMEZONE
BEGIN:VEVENT
DTSTART;VALUE=DATE:20260416
DTEND;VALUE=DATE:20260420
DTSTAMP:20260423T053827
CREATED:20211115T205004Z
LAST-MODIFIED:20260220T004100Z
UID:38332-1776297600-1776643199@olympicpeninsula.org
SUMMARY:Olympic Bird Fest 2026
DESCRIPTION:Olympic BirdFest takes place each April\, timed perfectly to capture the overlap of wintering birds and spring migration. Species such as Harlequin and Long-tailed Ducks\, seabirds\, and winter songbirds are still present\, while spring arrivals like Rufous Hummingbirds return from Mexico alongside the blooming red-flowering currants. \nExpert-led field trips explore some of the region’s most iconic birding locations\, including Sequim Bay\, Port Angeles Harbor\, Dungeness Bay\, Ediz Hook\, Dungeness Spit\, and the Elwha River. Additional outings venture through forests\, fields\, and prairies to seek out a variety of songbirds. Beyond the field trips\, BirdFest offers engaging presentations\, workshops\, and a Saturday night banquet featuring a special guest speaker and raffle. \nRegistration is open! For more information and to secure your spot for events\, please visit olympicbirdfest.org. For questions and registration assistance\, please call the Dungeness River Nature Center at 360-681-4076
URL:https://olympicpeninsula.org/event/olympic-birdfest/
LOCATION:Dungeness River Nature Center\, 2151 W. Hendrickson Rd\, Sequim\, WA\, 98382\, United States
CATEGORIES:Nature,Sequim & Dungeness Valley
ATTACH;FMTTYPE=image/jpeg:https://olympicpeninsula.org/wp-content/uploads/2019/11/BirdFest.jpg
GEO:48.0853775;-123.1460002
X-APPLE-STRUCTURED-LOCATION;VALUE=URI;X-ADDRESS=Dungeness River Nature Center 2151 W. Hendrickson Rd Sequim WA 98382 United States;X-APPLE-RADIUS=500;X-TITLE=2151 W. Hendrickson Rd:geo:-123.1460002,48.0853775
END:VEVENT
END:VCALENDAR