BEGIN:VCALENDAR
VERSION:2.0
PRODID:-//Olympic Peninsula - ECPv5.8.2//NONSGML v1.0//EN
CALSCALE:GREGORIAN
METHOD:PUBLISH
X-WR-CALNAME:Olympic Peninsula
X-ORIGINAL-URL:https://olympicpeninsula.org
X-WR-CALDESC:Events for Olympic Peninsula
BEGIN:VTIMEZONE
TZID:America/Los_Angeles
BEGIN:DAYLIGHT
TZOFFSETFROM:-0800
TZOFFSETTO:-0700
TZNAME:PDT
DTSTART:20260308T100000
END:DAYLIGHT
BEGIN:STANDARD
TZOFFSETFROM:-0700
TZOFFSETTO:-0800
TZNAME:PST
DTSTART:20261101T090000
END:STANDARD
END:VTIMEZONE
BEGIN:VEVENT
DTSTART;VALUE=DATE:20260606
DTEND;VALUE=DATE:20260608
DTSTAMP:20260424T015244
CREATED:20210212T191721Z
LAST-MODIFIED:20260227T211433Z
UID:34719-1780704000-1780876799@olympicpeninsula.org
SUMMARY:Port Angeles Maritime Festival
DESCRIPTION:Head to Port Angeles for a fun festival focusing on maritime careers\, music\, learning and activities for the whole family. \nThis event will include a US Coast Guard Search & Rescue demonstration\, boat tours\, a treasure hunt\, a fishing derby\, an orca bait swim\, sand castle contest\, delicious food vendors\, music and much more!
URL:https://olympicpeninsula.org/event/maritime-festival-port-angeles/
LOCATION:Port of Port Angeles Boathaven\, 800 W. Boathaven Dr.\, Port Angeles\, 98363
CATEGORIES:Community & Culture,Fairs & Festivals,History,Music,Port Angeles & Lake Crescent
ATTACH;FMTTYPE=image/jpeg:https://olympicpeninsula.org/wp-content/uploads/2018/12/PA-Maritime-Festival-e1772226852751.jpg
GEO:48.1242048;-123.4491185
X-APPLE-STRUCTURED-LOCATION;VALUE=URI;X-ADDRESS=Port of Port Angeles Boathaven 800 W. Boathaven Dr. Port Angeles 98363;X-APPLE-RADIUS=500;X-TITLE=800 W. Boathaven Dr.:geo:-123.4491185,48.1242048
END:VEVENT
END:VCALENDAR