BEGIN:VCALENDAR
VERSION:2.0
PRODID:-//Olympic Peninsula - ECPv5.8.2//NONSGML v1.0//EN
CALSCALE:GREGORIAN
METHOD:PUBLISH
X-WR-CALNAME:Olympic Peninsula
X-ORIGINAL-URL:https://olympicpeninsula.org
X-WR-CALDESC:Events for Olympic Peninsula
BEGIN:VTIMEZONE
TZID:America/Los_Angeles
BEGIN:DAYLIGHT
TZOFFSETFROM:-0800
TZOFFSETTO:-0700
TZNAME:PDT
DTSTART:20260308T100000
END:DAYLIGHT
BEGIN:STANDARD
TZOFFSETFROM:-0700
TZOFFSETTO:-0800
TZNAME:PST
DTSTART:20261101T090000
END:STANDARD
END:VTIMEZONE
BEGIN:VEVENT
DTSTART;VALUE=DATE:20260729
DTEND;VALUE=DATE:20260802
DTSTAMP:20260424T033214
CREATED:20220510T233715Z
LAST-MODIFIED:20260308T004800Z
UID:40658-1785283200-1785628799@olympicpeninsula.org
SUMMARY:Grays Harbor County Fair
DESCRIPTION:Enjoy live music\, exhilarating rides\, fair activities\, delicious bites\, vendors and fun for the whole family at the annual Grays Harbor County Fair in Elma.
URL:https://olympicpeninsula.org/event/grays-harbor-county-fair/
LOCATION:Grays Harbor County Fairgrounds\, 32 Elma McCleary Rd.\, Elma\, WA\, 98541\, United States
CATEGORIES:Fairs & Festivals,Shelton & South Puget Sound
ATTACH;FMTTYPE=image/jpeg:https://olympicpeninsula.org/wp-content/uploads/2022/05/harborfair-e1772930828481.jpg
GEO:47.014068;-123.3774695
X-APPLE-STRUCTURED-LOCATION;VALUE=URI;X-ADDRESS=Grays Harbor County Fairgrounds 32 Elma McCleary Rd. Elma WA 98541 United States;X-APPLE-RADIUS=500;X-TITLE=32 Elma McCleary Rd.:geo:-123.3774695,47.014068
END:VEVENT
END:VCALENDAR