BEGIN:VCALENDAR
VERSION:2.0
PRODID:-//Olympic Peninsula - ECPv5.8.2//NONSGML v1.0//EN
CALSCALE:GREGORIAN
METHOD:PUBLISH
X-WR-CALNAME:Olympic Peninsula
X-ORIGINAL-URL:https://olympicpeninsula.org
X-WR-CALDESC:Events for Olympic Peninsula
BEGIN:VTIMEZONE
TZID:America/Los_Angeles
BEGIN:DAYLIGHT
TZOFFSETFROM:-0800
TZOFFSETTO:-0700
TZNAME:PDT
DTSTART:20250309T100000
END:DAYLIGHT
BEGIN:STANDARD
TZOFFSETFROM:-0700
TZOFFSETTO:-0800
TZNAME:PST
DTSTART:20251102T090000
END:STANDARD
END:VTIMEZONE
BEGIN:VEVENT
DTSTART;VALUE=DATE:20251128
DTEND;VALUE=DATE:20251227
DTSTAMP:20260421T031532
CREATED:20251121T212041Z
LAST-MODIFIED:20251205T232530Z
UID:56623-1764288000-1766793599@olympicpeninsula.org
SUMMARY:Festival of the Firs
DESCRIPTION:For generations\, local families have celebrated the season through Mason County’s evergreen traditions at the annual Festival of the Firs. This year’s festival features 12 ways to celebrate Christmas across the county and a festive logging camp (Camp Grisdale) that weaves the tales of Paul and Babe into Shelton’s Christmastown story. For twelve days and evenings\, enjoy live music\, a tree maze\, crafting activities\, fire pits\, scheduled snow flurries\, delicious food\, and local vendors at Camp Grisdale. Visit ChristmastownWA.Org for more details and the complete list of events.
URL:https://olympicpeninsula.org/event/festival-of-the-firs/
LOCATION:Downtown Shelton\, 525 W. Cota St.\, Shelton\, WA\, 98584\, United States
CATEGORIES:Art & Performance,Community & Culture,Fairs & Festivals,Music,Nature,Shelton & South Puget Sound
ATTACH;FMTTYPE=image/jpeg:https://olympicpeninsula.org/wp-content/uploads/2025/11/festival-of-firs-e1763759465678.jpg
GEO:47.2150945;-123.1007066
X-APPLE-STRUCTURED-LOCATION;VALUE=URI;X-ADDRESS=Downtown Shelton 525 W. Cota St. Shelton WA 98584 United States;X-APPLE-RADIUS=500;X-TITLE=525 W. Cota St.:geo:-123.1007066,47.2150945
END:VEVENT
END:VCALENDAR