BEGIN:VCALENDAR
VERSION:2.0
PRODID:-//Olympic Peninsula - ECPv5.8.2//NONSGML v1.0//EN
CALSCALE:GREGORIAN
METHOD:PUBLISH
X-WR-CALNAME:Olympic Peninsula
X-ORIGINAL-URL:https://olympicpeninsula.org
X-WR-CALDESC:Events for Olympic Peninsula
BEGIN:VTIMEZONE
TZID:America/Los_Angeles
BEGIN:DAYLIGHT
TZOFFSETFROM:-0800
TZOFFSETTO:-0700
TZNAME:PDT
DTSTART:20260308T100000
END:DAYLIGHT
BEGIN:STANDARD
TZOFFSETFROM:-0700
TZOFFSETTO:-0800
TZNAME:PST
DTSTART:20261101T090000
END:STANDARD
END:VTIMEZONE
BEGIN:VEVENT
DTSTART;VALUE=DATE:20260710
DTEND;VALUE=DATE:20260713
DTSTAMP:20260424T014631
CREATED:20220503T193521Z
LAST-MODIFIED:20260307T002314Z
UID:40545-1783641600-1783900799@olympicpeninsula.org
SUMMARY:21st Annual Bluegrass from the Forest
DESCRIPTION:Bluegrass from the Forest will return to the Olympic Peninsula for its 21st year. Camping\, jamming\, workshops\, and great bands & vendors are hallmarks of this annual event!
URL:https://olympicpeninsula.org/event/bluegrass-from-the-forest/
LOCATION:South Mason Youth Soccer Park\, 2102 E. Johns Prairie Rd.\, Shelton\, WA\, 98584\, United States
CATEGORIES:Art & Performance,Community & Culture,Fairs & Festivals,Music,Shelton & South Puget Sound
ATTACH;FMTTYPE=image/jpeg:https://olympicpeninsula.org/wp-content/uploads/2022/05/2026_BGFTF-fb-poster.jpg
GEO:47.2459853;-123.0857179
X-APPLE-STRUCTURED-LOCATION;VALUE=URI;X-ADDRESS=South Mason Youth Soccer Park 2102 E. Johns Prairie Rd. Shelton WA 98584 United States;X-APPLE-RADIUS=500;X-TITLE=2102 E. Johns Prairie Rd.:geo:-123.0857179,47.2459853
END:VEVENT
END:VCALENDAR